BEGIN:VCALENDAR
VERSION:2.0
PRODID:-//FC1869//CS
BEGIN:VEVENT
DTSTAMP:20260419T141641Z
DTSTART:20140527T161500Z
DTEND:20140527T171500Z
SUMMARY:9. Tamu Pua 1. FC B - FC 1869
LOCATION:HANSP
UID:69e4e3c9edef3@FC1869
END:VEVENT
END:VCALENDAR