BEGIN:VCALENDAR
VERSION:2.0
PRODID:-//FC1869//CS
BEGIN:VEVENT
DTSTAMP:20260419T141712Z
DTSTART:20140603T161500Z
DTEND:20140603T171500Z
SUMMARY:10. FC 1869 - Vidím čaj
LOCATION:NOVOB
UID:69e4e3e86e6d1@FC1869
END:VEVENT
END:VCALENDAR