BEGIN:VCALENDAR
VERSION:2.0
PRODID:-//FC1869//CS
BEGIN:VEVENT
DTSTAMP:20260419T141606Z
DTSTART:20140617T181500Z
DTEND:20140617T191500Z
SUMMARY:11. Viktoria Bítovská A - FC 1869
LOCATION:MOTO3
UID:69e4e3a6ba871@FC1869
END:VEVENT
END:VCALENDAR