BEGIN:VCALENDAR
VERSION:2.0
PRODID:-//FC1869//CS
BEGIN:VEVENT
DTSTAMP:20260419T141641Z
DTSTART:20140401T150000Z
DTEND:20140401T160000Z
SUMMARY:1. Parní válec - Tamu Pua 1. FC B
LOCATION:HANSP
UID:69e4e3c9b49fa@FC1869
END:VEVENT
END:VCALENDAR