BEGIN:VCALENDAR
VERSION:2.0
PRODID:-//FC1869//CS
BEGIN:VEVENT
DTSTAMP:20260419T141607Z
DTSTART:20140401T163000Z
DTEND:20140401T173000Z
SUMMARY:1. Netopýr TFC - Vidím čaj
LOCATION:HRAB1
UID:69e4e3a7debb2@FC1869
END:VEVENT
END:VCALENDAR