BEGIN:VCALENDAR
VERSION:2.0
PRODID:-//FC1869//CS
BEGIN:VEVENT
DTSTAMP:20260419T141529Z
DTSTART:20140401T174500Z
DTEND:20140401T184500Z
SUMMARY:1. Pigs FC - S nadhledem  ! možná kolize barvy dresů !
LOCATION:HRAB2
UID:69e4e381bb0fc@FC1869
END:VEVENT
END:VCALENDAR