BEGIN:VCALENDAR
VERSION:2.0
PRODID:-//FC1869//CS
BEGIN:VEVENT
DTSTAMP:20260419T124322Z
DTSTART:20140401T181500Z
DTEND:20140401T191500Z
SUMMARY:1. Real Sharks - Rosengart FC
LOCATION:ZABEH
UID:69e4cdead9a84@FC1869
END:VEVENT
END:VCALENDAR