BEGIN:VCALENDAR
VERSION:2.0
PRODID:-//FC1869//CS
BEGIN:VEVENT
DTSTAMP:20260419T141713Z
DTSTART:20140401T181500Z
DTEND:20140401T191500Z
SUMMARY:1. GFC Regent B - Viktoria Bítovská A
LOCATION:P2
UID:69e4e3e9e8b7b@FC1869
END:VEVENT
END:VCALENDAR