BEGIN:VCALENDAR
VERSION:2.0
PRODID:-//FC1869//CS
BEGIN:VEVENT
DTSTAMP:20260419T141644Z
DTSTART:20140408T150000Z
DTEND:20140408T160000Z
SUMMARY:2. Tamu Pua 1. FC B - Pigs FC
LOCATION:HANSP
UID:69e4e3cc27768@FC1869
END:VEVENT
END:VCALENDAR