BEGIN:VCALENDAR
VERSION:2.0
PRODID:-//FC1869//CS
BEGIN:VEVENT
DTSTAMP:20260419T132637Z
DTSTART:20140408T163000Z
DTEND:20140408T173000Z
SUMMARY:2. Viktoria Bítovská A - Netopýr TFC
LOCATION:HRAB1
UID:69e4d80d68b31@FC1869
END:VEVENT
END:VCALENDAR