BEGIN:VCALENDAR
VERSION:2.0
PRODID:-//FC1869//CS
BEGIN:VEVENT
DTSTAMP:20260419T141608Z
DTSTART:20140408T170000Z
DTEND:20140408T180000Z
SUMMARY:2. Vidím čaj - Parní válec
LOCATION:MOTO2
UID:69e4e3a83c91b@FC1869
END:VEVENT
END:VCALENDAR