BEGIN:VCALENDAR
VERSION:2.0
PRODID:-//FC1869//CS
BEGIN:VEVENT
DTSTAMP:20260419T124153Z
DTSTART:20140408T181500Z
DTEND:20140408T191500Z
SUMMARY:2. South Rise Again FC - Rosengart FC
LOCATION:ZABEH
UID:69e4cd911b74c@FC1869
END:VEVENT
END:VCALENDAR