BEGIN:VCALENDAR
VERSION:2.0
PRODID:-//FC1869//CS
BEGIN:VEVENT
DTSTAMP:20260419T141643Z
DTSTART:20140408T184500Z
DTEND:20140408T194500Z
SUMMARY:2. S nadhledem - Real Sharks
LOCATION:BECH
UID:69e4e3cb749cd@FC1869
END:VEVENT
END:VCALENDAR