BEGIN:VCALENDAR
VERSION:2.0
PRODID:-//FC1869//CS
BEGIN:VEVENT
DTSTAMP:20260419T141537Z
DTSTART:20140415T150000Z
DTEND:20140415T160000Z
SUMMARY:3. Real Sharks - Tamu Pua 1. FC B
LOCATION:HANSP
UID:69e4e3899bf37@FC1869
END:VEVENT
END:VCALENDAR