BEGIN:VCALENDAR
VERSION:2.0
PRODID:-//FC1869//CS
BEGIN:VEVENT
DTSTAMP:20260419T141609Z
DTSTART:20140415T170000Z
DTEND:20140415T180000Z
SUMMARY:3. Pigs FC - Vidím čaj
LOCATION:MOTO2
UID:69e4e3a9b7564@FC1869
END:VEVENT
END:VCALENDAR