BEGIN:VCALENDAR
VERSION:2.0
PRODID:-//FC1869//CS
BEGIN:VEVENT
DTSTAMP:20260419T124301Z
DTSTART:20140415T181500Z
DTEND:20140415T191500Z
SUMMARY:3. Rosengart FC - S nadhledem  ! možná kolize barvy dresů !
LOCATION:ZABEH
UID:69e4cdd5650a8@FC1869
END:VEVENT
END:VCALENDAR