BEGIN:VCALENDAR
VERSION:2.0
PRODID:-//FC1869//CS
BEGIN:VEVENT
DTSTAMP:20260419T141711Z
DTSTART:20140415T181500Z
DTEND:20140415T191500Z
SUMMARY:3. GFC Regent B - South Rise Again FC
LOCATION:P2
UID:69e4e3e7d2e2e@FC1869
END:VEVENT
END:VCALENDAR