BEGIN:VCALENDAR
VERSION:2.0
PRODID:-//FC1869//CS
BEGIN:VEVENT
DTSTAMP:20260419T141400Z
DTSTART:20140415T184500Z
DTEND:20140415T194500Z
SUMMARY:3. Parní válec - Viktoria Bítovská A
LOCATION:BECH
UID:69e4e328973b2@FC1869
END:VEVENT
END:VCALENDAR