BEGIN:VCALENDAR
VERSION:2.0
PRODID:-//FC1869//CS
BEGIN:VEVENT
DTSTAMP:20260419T124202Z
DTSTART:20140422T150000Z
DTEND:20140422T160000Z
SUMMARY:4. Tamu Pua 1. FC B - Rosengart FC
LOCATION:HANSP
UID:69e4cd9a414ff@FC1869
END:VEVENT
END:VCALENDAR