BEGIN:VCALENDAR
VERSION:2.0
PRODID:-//FC1869//CS
BEGIN:VEVENT
DTSTAMP:20260419T132556Z
DTSTART:20140422T181500Z
DTEND:20140422T191500Z
SUMMARY:4. GFC Regent B - Netopýr TFC
LOCATION:P1
UID:69e4d7e415c71@FC1869
END:VEVENT
END:VCALENDAR