BEGIN:VCALENDAR
VERSION:2.0
PRODID:-//FC1869//CS
BEGIN:VEVENT
DTSTAMP:20260419T141528Z
DTSTART:20140422T184500Z
DTEND:20140422T194500Z
SUMMARY:4. Vidím čaj - Real Sharks
LOCATION:DEKAN
UID:69e4e380377d5@FC1869
END:VEVENT
END:VCALENDAR