BEGIN:VCALENDAR
VERSION:2.0
PRODID:-//FC1869//CS
BEGIN:VEVENT
DTSTAMP:20260419T141643Z
DTSTART:20140422T184500Z
DTEND:20140422T194500Z
SUMMARY:4. Viktoria Bítovská A - Pigs FC
LOCATION:MIKU4
UID:69e4e3cbee907@FC1869
END:VEVENT
END:VCALENDAR