BEGIN:VCALENDAR
VERSION:2.0
PRODID:-//FC1869//CS
BEGIN:VEVENT
DTSTAMP:20260419T141358Z
DTSTART:20140423T183000Z
DTEND:20140423T193000Z
SUMMARY:4. South Rise Again FC - S nadhledem  ! možná kolize barvy dresů !
LOCATION:STER3
UID:69e4e3261c452@FC1869
END:VEVENT
END:VCALENDAR