BEGIN:VCALENDAR
VERSION:2.0
PRODID:-//FC1869//CS
BEGIN:VEVENT
DTSTAMP:20260419T141607Z
DTSTART:20140429T150000Z
DTEND:20140429T160000Z
SUMMARY:5. S nadhledem - Tamu Pua 1. FC B
LOCATION:HANSP
UID:69e4e3a73cfe1@FC1869
END:VEVENT
END:VCALENDAR