BEGIN:VCALENDAR
VERSION:2.0
PRODID:-//FC1869//CS
BEGIN:VEVENT
DTSTAMP:20260419T141644Z
DTSTART:20140429T163000Z
DTEND:20140429T173000Z
SUMMARY:5. Netopýr TFC - South Rise Again FC
LOCATION:HRAB1
UID:69e4e3cc75099@FC1869
END:VEVENT
END:VCALENDAR