BEGIN:VCALENDAR
VERSION:2.0
PRODID:-//FC1869//CS
BEGIN:VEVENT
DTSTAMP:20260419T141608Z
DTSTART:20140429T174500Z
DTEND:20140429T184500Z
SUMMARY:5. Real Sharks - Viktoria Bítovská A
LOCATION:HRAB1
UID:69e4e3a8b6508@FC1869
END:VEVENT
END:VCALENDAR