BEGIN:VCALENDAR
VERSION:2.0
PRODID:-//FC1869//CS
BEGIN:VEVENT
DTSTAMP:20260419T124302Z
DTSTART:20140429T181500Z
DTEND:20140429T191500Z
SUMMARY:5. Rosengart FC - Vidím čaj
LOCATION:ZABEH
UID:69e4cdd664fa3@FC1869
END:VEVENT
END:VCALENDAR