BEGIN:VCALENDAR
VERSION:2.0
PRODID:-//FC1869//CS
BEGIN:VEVENT
DTSTAMP:20260419T141712Z
DTSTART:20140429T181500Z
DTEND:20140429T191500Z
SUMMARY:5. Parní válec - GFC Regent B
LOCATION:P1
UID:69e4e3e8e8157@FC1869
END:VEVENT
END:VCALENDAR