BEGIN:VCALENDAR
VERSION:2.0
PRODID:-//FC1869//CS
BEGIN:VEVENT
DTSTAMP:20260419T141606Z
DTSTART:20140506T150000Z
DTEND:20140506T160000Z
SUMMARY:6. South Rise Again FC - Tamu Pua 1. FC B
LOCATION:HANSP
UID:69e4e3a6723a9@FC1869
END:VEVENT
END:VCALENDAR