BEGIN:VCALENDAR
VERSION:2.0
PRODID:-//FC1869//CS
BEGIN:VEVENT
DTSTAMP:20260419T132638Z
DTSTART:20140506T163000Z
DTEND:20140506T173000Z
SUMMARY:6. Netopýr TFC - Parní válec
LOCATION:HRAB1
UID:69e4d80ed9514@FC1869
END:VEVENT
END:VCALENDAR