BEGIN:VCALENDAR
VERSION:2.0
PRODID:-//FC1869//CS
BEGIN:VEVENT
DTSTAMP:20260419T141536Z
DTSTART:20140506T170000Z
DTEND:20140506T180000Z
SUMMARY:6. Vidím čaj - S nadhledem  ! možná kolize barvy dresů !
LOCATION:STOD
UID:69e4e388e2fe6@FC1869
END:VEVENT
END:VCALENDAR