BEGIN:VCALENDAR
VERSION:2.0
PRODID:-//FC1869//CS
BEGIN:VEVENT
DTSTAMP:20260419T141531Z
DTSTART:20140506T181500Z
DTEND:20140506T191500Z
SUMMARY:6. GFC Regent B - Pigs FC
LOCATION:P2
UID:69e4e3834893e@FC1869
END:VEVENT
END:VCALENDAR