BEGIN:VCALENDAR
VERSION:2.0
PRODID:-//FC1869//CS
BEGIN:VEVENT
DTSTAMP:20260419T124304Z
DTSTART:20140506T181500Z
DTEND:20140506T191500Z
SUMMARY:6. Viktoria Bítovská A - Rosengart FC
LOCATION:ZABEH
UID:69e4cdd8207b8@FC1869
END:VEVENT
END:VCALENDAR