BEGIN:VCALENDAR
VERSION:2.0
PRODID:-//FC1869//CS
BEGIN:VEVENT
DTSTAMP:20260419T141528Z
DTSTART:20140513T150000Z
DTEND:20140513T160000Z
SUMMARY:7. Tamu Pua 1. FC B - Vidím čaj
LOCATION:HANSP
UID:69e4e380c1548@FC1869
END:VEVENT
END:VCALENDAR