BEGIN:VCALENDAR
VERSION:2.0
PRODID:-//FC1869//CS
BEGIN:VEVENT
DTSTAMP:20260419T133025Z
DTSTART:20140513T163000Z
DTEND:20140513T173000Z
SUMMARY:7. Pigs FC - Netopýr TFC
LOCATION:HRAB1
UID:69e4d8f17309f@FC1869
END:VEVENT
END:VCALENDAR