BEGIN:VCALENDAR
VERSION:2.0
PRODID:-//FC1869//CS
BEGIN:VEVENT
DTSTAMP:20260419T141609Z
DTSTART:20140513T181500Z
DTEND:20140513T191500Z
SUMMARY:7. Real Sharks - GFC Regent B
LOCATION:P2
UID:69e4e3a93d5da@FC1869
END:VEVENT
END:VCALENDAR