BEGIN:VCALENDAR
VERSION:2.0
PRODID:-//FC1869//CS
BEGIN:VEVENT
DTSTAMP:20260419T141530Z
DTSTART:20140514T183000Z
DTEND:20140514T193000Z
SUMMARY:7. Parní válec - South Rise Again FC
LOCATION:STER2
UID:69e4e382475fa@FC1869
END:VEVENT
END:VCALENDAR