BEGIN:VCALENDAR
VERSION:2.0
PRODID:-//FC1869//CS
BEGIN:VEVENT
DTSTAMP:20260419T141536Z
DTSTART:20140520T150000Z
DTEND:20140520T160000Z
SUMMARY:8. Viktoria Bítovská A - Tamu Pua 1. FC B
LOCATION:HANSP
UID:69e4e3889cb01@FC1869
END:VEVENT
END:VCALENDAR