BEGIN:VCALENDAR
VERSION:2.0
PRODID:-//FC1869//CS
BEGIN:VEVENT
DTSTAMP:20260419T132856Z
DTSTART:20140520T163000Z
DTEND:20140520T173000Z
SUMMARY:8. Netopýr TFC - Real Sharks
LOCATION:HRAB1
UID:69e4d8989598d@FC1869
END:VEVENT
END:VCALENDAR