BEGIN:VCALENDAR
VERSION:2.0
PRODID:-//FC1869//CS
BEGIN:VEVENT
DTSTAMP:20260419T141642Z
DTSTART:20140520T170000Z
DTEND:20140520T180000Z
SUMMARY:8. South Rise Again FC - Vidím čaj
LOCATION:MOTO2
UID:69e4e3ca73dc9@FC1869
END:VEVENT
END:VCALENDAR