BEGIN:VCALENDAR
VERSION:2.0
PRODID:-//FC1869//CS
BEGIN:VEVENT
DTSTAMP:20260419T124159Z
DTSTART:20140520T181500Z
DTEND:20140520T191500Z
SUMMARY:8. GFC Regent B - Rosengart FC
LOCATION:P1
UID:69e4cd9728385@FC1869
END:VEVENT
END:VCALENDAR