BEGIN:VCALENDAR
VERSION:2.0
PRODID:-//FC1869//CS
BEGIN:VEVENT
DTSTAMP:20260419T141536Z
DTSTART:20140520T184500Z
DTEND:20140520T194500Z
SUMMARY:8. Parní válec - Pigs FC
LOCATION:LITVI
UID:69e4e38824596@FC1869
END:VEVENT
END:VCALENDAR