BEGIN:VCALENDAR
VERSION:2.0
PRODID:-//FC1869//CS
BEGIN:VEVENT
DTSTAMP:20260419T141358Z
DTSTART:20140527T173000Z
DTEND:20140527T183000Z
SUMMARY:9. Real Sharks - Parní válec
LOCATION:LITVI
UID:69e4e3269f350@FC1869
END:VEVENT
END:VCALENDAR