BEGIN:VCALENDAR
VERSION:2.0
PRODID:-//FC1869//CS
BEGIN:VEVENT
DTSTAMP:20260419T141529Z
DTSTART:20140527T181500Z
DTEND:20140527T191500Z
SUMMARY:9. S nadhledem - GFC Regent B
LOCATION:P2
UID:69e4e381de21e@FC1869
END:VEVENT
END:VCALENDAR