BEGIN:VCALENDAR
VERSION:2.0
PRODID:-//FC1869//CS
BEGIN:VEVENT
DTSTAMP:20260419T124354Z
DTSTART:20140527T181500Z
DTEND:20140527T191500Z
SUMMARY:9. Rosengart FC - Netopýr TFC
LOCATION:ZABEH
UID:69e4ce0a65aef@FC1869
END:VEVENT
END:VCALENDAR