BEGIN:VCALENDAR
VERSION:2.0
PRODID:-//FC1869//CS
BEGIN:VEVENT
DTSTAMP:20260419T141359Z
DTSTART:20140527T184500Z
DTEND:20140527T194500Z
SUMMARY:9. Vidím čaj - Viktoria Bítovská A
LOCATION:TEMPO
UID:69e4e3279722c@FC1869
END:VEVENT
END:VCALENDAR