BEGIN:VCALENDAR
VERSION:2.0
PRODID:-//FC1869//CS
BEGIN:VEVENT
DTSTAMP:20260419T132243Z
DTSTART:20140603T163000Z
DTEND:20140603T173000Z
SUMMARY:10. Netopýr TFC - S nadhledem  ! možná kolize barvy dresů !
LOCATION:HRAB1
UID:69e4d723a15e5@FC1869
END:VEVENT
END:VCALENDAR