BEGIN:VCALENDAR
VERSION:2.0
PRODID:-//FC1869//CS
BEGIN:VEVENT
DTSTAMP:20260419T141538Z
DTSTART:20140603T174500Z
DTEND:20140603T184500Z
SUMMARY:10. Pigs FC - Real Sharks
LOCATION:HRAB3
UID:69e4e38ad5f67@FC1869
END:VEVENT
END:VCALENDAR