BEGIN:VCALENDAR
VERSION:2.0
PRODID:-//FC1869//CS
BEGIN:VEVENT
DTSTAMP:20260419T141357Z
DTSTART:20140603T174500Z
DTEND:20140603T184500Z
SUMMARY:10. South Rise Again FC - Viktoria Bítovská A
LOCATION:HRAB2
UID:69e4e3253a5cc@FC1869
END:VEVENT
END:VCALENDAR