BEGIN:VCALENDAR
VERSION:2.0
PRODID:-//FC1869//CS
BEGIN:VEVENT
DTSTAMP:20260419T124301Z
DTSTART:20140603T181500Z
DTEND:20140603T191500Z
SUMMARY:10. Parní válec - Rosengart FC
LOCATION:ZABEH
UID:69e4cdd529902@FC1869
END:VEVENT
END:VCALENDAR